BEGIN:VCALENDAR
VERSION:2.0
PRODID:-//Tukios.com/
BEGIN:VEVENT
UID:dd2ea5c6-6d63-4e8f-9ba8-45ab88cd8eac@www.mcmullenfuneralhome.com
DTSTAMP:20260422T003512Z
DTSTART:20260426T180000Z
DTEND:20260426T190000Z
SUMMARY:Memorial Service
DESCRIPTION:
URL:https://www.mcmullenfuneralhome.com/obituaries/chance-miles
LOCATION: 12289 Georgia 315  Cataula GA 31804
GEO:32.6552013;-84.8675787
END:VEVENT
END:VCALENDAR