BEGIN:VCALENDAR
VERSION:2.0
PRODID:-//Tukios.com/
BEGIN:VEVENT
UID:ebea837a-b670-431a-a874-31a385644af1@www.mcmullenfuneralhome.com
DTSTAMP:20260423T020849Z
DTSTART:20260425T150000Z
DTEND:20260425T160000Z
SUMMARY:Funeral Service
DESCRIPTION:
URL:https://www.mcmullenfuneralhome.com/obituaries/danny-daniels
LOCATION: 3874 Gentian Blvd.  Columbus GA 31907
GEO:32.5103476;-84.9287556
END:VEVENT
END:VCALENDAR