BEGIN:VCALENDAR
VERSION:2.0
PRODID:-//Tukios.com/
BEGIN:VEVENT
UID:8ac9be05-dd88-44ba-8707-6b83aac3fd37@www.mcmullenfuneralhome.com
DTSTAMP:20260423T020614Z
DTSTART:20260424T220000Z
DTEND:20260425T000000Z
SUMMARY:Visitation
DESCRIPTION:
URL:https://www.mcmullenfuneralhome.com/obituaries/danny-daniels
LOCATION: 3874 Gentian Blvd.  Columbus GA 31907
GEO:32.5103476;-84.9287556
END:VEVENT
END:VCALENDAR