BEGIN:VCALENDAR
VERSION:2.0
PRODID:-//Tukios.com/
BEGIN:VEVENT
UID:26412014-222d-460d-a547-5182ce027ea1@www.mcmullenfuneralhome.com
DTSTAMP:20260424T002614Z
DTSTART:20260425T180000Z
DTEND:20260425T190000Z
SUMMARY:Visitation
DESCRIPTION:
URL:https://www.mcmullenfuneralhome.com/obituaries/jenieffer-spillman
LOCATION: 3874 Gentian Blvd.  Columbus GA 31907
GEO:32.5103476;-84.9287556
END:VEVENT
END:VCALENDAR