BEGIN:VCALENDAR
VERSION:2.0
PRODID:-//Tukios.com/
BEGIN:VEVENT
UID:0b83ca29-f98e-483c-980e-8a520f94cb55@www.mcmullenfuneralhome.com
DTSTAMP:20260420T224642Z
DTSTART:20260424T180000Z
DTEND:20260424T190000Z
SUMMARY:Celebration of Life
DESCRIPTION:
URL:https://www.mcmullenfuneralhome.com/obituaries/jimmy-belcher
LOCATION: 3874 Gentian Blvd.  Columbus GA 31907
GEO:32.5103476;-84.9287556
END:VEVENT
END:VCALENDAR