BEGIN:VCALENDAR
VERSION:2.0
PRODID:-//Tukios.com/
BEGIN:VEVENT
UID:b8aa687c-802c-4445-a901-b40284b01a3f@www.mcmullenfuneralhome.com
DTSTAMP:20260420T224744Z
DTSTART:20260424T170000Z
DTEND:20260424T180000Z
SUMMARY:Visitation
DESCRIPTION:
URL:https://www.mcmullenfuneralhome.com/obituaries/jimmy-belcher
LOCATION: 3874 Gentian Blvd.  Columbus GA 31907
GEO:32.5103476;-84.9287556
END:VEVENT
END:VCALENDAR